BEGIN:VCALENDAR
VERSION:2.0
PRODID:-//HKAI LAB - ECPv5.0.3.1//NONSGML v1.0//EN
CALSCALE:GREGORIAN
METHOD:PUBLISH
X-WR-CALNAME:HKAI LAB
X-ORIGINAL-URL:https://hongkongai.org/cht
X-WR-CALDESC:Events for HKAI LAB
BEGIN:VTIMEZONE
TZID:Asia/Hong_Kong
BEGIN:STANDARD
TZOFFSETFROM:+0800
TZOFFSETTO:+0800
TZNAME:HKT
DTSTART:20200101T000000
END:STANDARD
END:VTIMEZONE
BEGIN:VEVENT
DTSTART;TZID=Asia/Hong_Kong:20200512T190000
DTEND;TZID=Asia/Hong_Kong:20200512T210000
DTSTAMP:20260420T175813
CREATED:20200427T021544Z
LAST-MODIFIED:20200427T021544Z
UID:3431-1589310000-1589317200@hongkongai.org
SUMMARY:Free - Introduction to Artificial Intelligence & Internet of Things (IoT) Technology
DESCRIPTION:人工智能將定義下一代軟件的解決方案 \nGoogle 旗下 DeepMind 開發的 AI 程式 Alpha Go 在前年打敗世界頂尖棋手後一戰成名，而這歷史性一「奕」，如平地一聲雷，激起了巨浪，令全世界譁然，原來「AI」不僅僅是科幻電影的產物，而是與人類共存在同一個真實時空當中。此後 AI 的發展一日千里，在可見的未來必將完全融入日常生活中，不想被淘汰便要人一步掌握這項新技術。 \n
URL:https://hongkongai.org/cht/calendar/free-introduction-to-artificial-intelligence-internet-of-things-iot-technology/
LOCATION:Theatre 2\, 1/F HKPC\, 78 Tat Chee Road\, Kowloon Tong\, Hong Kong
END:VEVENT
END:VCALENDAR